BEGIN:VCALENDAR
VERSION:2.0
PRODID:-//Cynthia Libert, M.D. - Caring for the Body - ECPv6.15.20//NONSGML v1.0//EN
CALSCALE:GREGORIAN
METHOD:PUBLISH
X-ORIGINAL-URL:https://caringforthebody.com
X-WR-CALDESC:Events for Cynthia Libert, M.D. - Caring for the Body
REFRESH-INTERVAL;VALUE=DURATION:PT1H
X-Robots-Tag:noindex
X-PUBLISHED-TTL:PT1H
BEGIN:VTIMEZONE
TZID:America/New_York
BEGIN:DAYLIGHT
TZOFFSETFROM:-0500
TZOFFSETTO:-0400
TZNAME:EDT
DTSTART:20210314T070000
END:DAYLIGHT
BEGIN:STANDARD
TZOFFSETFROM:-0400
TZOFFSETTO:-0500
TZNAME:EST
DTSTART:20211107T060000
END:STANDARD
BEGIN:DAYLIGHT
TZOFFSETFROM:-0500
TZOFFSETTO:-0400
TZNAME:EDT
DTSTART:20220313T070000
END:DAYLIGHT
BEGIN:STANDARD
TZOFFSETFROM:-0400
TZOFFSETTO:-0500
TZNAME:EST
DTSTART:20221106T060000
END:STANDARD
BEGIN:DAYLIGHT
TZOFFSETFROM:-0500
TZOFFSETTO:-0400
TZNAME:EDT
DTSTART:20230312T070000
END:DAYLIGHT
BEGIN:STANDARD
TZOFFSETFROM:-0400
TZOFFSETTO:-0500
TZNAME:EST
DTSTART:20231105T060000
END:STANDARD
BEGIN:DAYLIGHT
TZOFFSETFROM:-0500
TZOFFSETTO:-0400
TZNAME:EDT
DTSTART:20240310T070000
END:DAYLIGHT
BEGIN:STANDARD
TZOFFSETFROM:-0400
TZOFFSETTO:-0500
TZNAME:EST
DTSTART:20241103T060000
END:STANDARD
BEGIN:DAYLIGHT
TZOFFSETFROM:-0500
TZOFFSETTO:-0400
TZNAME:EDT
DTSTART:20250309T070000
END:DAYLIGHT
BEGIN:STANDARD
TZOFFSETFROM:-0400
TZOFFSETTO:-0500
TZNAME:EST
DTSTART:20251102T060000
END:STANDARD
END:VTIMEZONE
BEGIN:VEVENT
DTSTART;TZID=America/New_York:20240123T120000
DTEND;TZID=America/New_York:20240123T130000
DTSTAMP:20260419T190144
CREATED:20231206T162626Z
LAST-MODIFIED:20231206T162810Z
UID:51418-1706011200-1706014800@caringforthebody.com
SUMMARY:Functional Medicine Health & Nutrition Coaching Program
DESCRIPTION:The Functional Medicine Health & Nutrition coaching group meets every second and fourth Tuesday of each month from 12 pm to 1:00 pm EST on Zoom. These interactive and engaging sessions are designed to provide you with personalized guidance and support on your health journey. \nAll of the mentorship group sessions will be recorded and archived within our private membership site. If you are unable to attend a live session\, you can access the recordings at your convenience and never miss out on valuable insights and discussions. \n**Access to the Functional Medicine Health & Nutrition Coaching Program is included in our patient care programs.   Learn more about our services.** \nLearn more about the Functional Medicine Health & Nutrition coaching program here.
URL:https://caringforthebody.com/event/functional-medicine-health-nutrition-coaching-program-7/
LOCATION:Video Conference
CATEGORIES:Group Health Coaching
ATTACH;FMTTYPE=image/png:https://caringforthebody.com/wp-content/uploads/2023/08/Functional-Medicine-health-nutrition-coaching-program-1.png
ORGANIZER;CN="Caring for the Body%2C PLLC":MAILTO:help@caringforthebody.org
END:VEVENT
BEGIN:VEVENT
DTSTART;TZID=America/New_York:20240109T120000
DTEND;TZID=America/New_York:20240109T130000
DTSTAMP:20260419T190144
CREATED:20231206T162118Z
LAST-MODIFIED:20231206T162118Z
UID:51416-1704801600-1704805200@caringforthebody.com
SUMMARY:Functional Medicine Health & Nutrition Coaching Program
DESCRIPTION:The Functional Medicine Health & Nutrition coaching group meets every second and fourth Tuesday of each month from 12 pm to 1:00 pm EST on Zoom. These interactive and engaging sessions are designed to provide you with personalized guidance and support on your health journey. \nAll of the mentorship group sessions will be recorded and archived within our private membership site. If you are unable to attend a live session\, you can access the recordings at your convenience and never miss out on valuable insights and discussions. \n**Access to the Functional Medicine Health & Nutrition Coaching Program is included in our patient care programs.   Learn more about our services.** \nLearn more about the Functional Medicine Health & Nutrition coaching program here.
URL:https://caringforthebody.com/event/functional-medicine-health-nutrition-coaching-program-6/
LOCATION:Video Conference
CATEGORIES:Group Health Coaching
ATTACH;FMTTYPE=image/png:https://caringforthebody.com/wp-content/uploads/2023/08/Functional-Medicine-health-nutrition-coaching-program-1.png
ORGANIZER;CN="Caring for the Body%2C PLLC":MAILTO:help@caringforthebody.org
END:VEVENT
BEGIN:VEVENT
DTSTART;TZID=America/New_York:20231212T120000
DTEND;TZID=America/New_York:20231212T130000
DTSTAMP:20260419T190144
CREATED:20230815T174653Z
LAST-MODIFIED:20230819T200029Z
UID:50857-1702382400-1702386000@caringforthebody.com
SUMMARY:Functional Medicine Health & Nutrition Coaching Program
DESCRIPTION:The Functional Medicine Health & Nutrition coaching group meets every second and fourth Tuesday of each month from 12 pm to 1:00 pm EST on Zoom. These interactive and engaging sessions are designed to provide you with personalized guidance and support on your health journey. \nAll of the mentorship group sessions will be recorded and archived within our private membership site. If you are unable to attend a live session\, you can access the recordings at your convenience and never miss out on valuable insights and discussions. \n**Access to the Functional Medicine Health & Nutrition Coaching Program is included in our patient care programs.   Learn more about our services.** \nLearn more about the Functional Medicine Health & Nutrition coaching program here.
URL:https://caringforthebody.com/event/functional-medicine-health-nutrition-coaching-program-5/
LOCATION:Video Conference
CATEGORIES:Group Health Coaching
ATTACH;FMTTYPE=image/png:https://caringforthebody.com/wp-content/uploads/2023/08/Functional-Medicine-health-nutrition-coaching-program-1.png
ORGANIZER;CN="Caring for the Body%2C PLLC":MAILTO:help@caringforthebody.org
END:VEVENT
BEGIN:VEVENT
DTSTART;TZID=America/New_York:20231128T120000
DTEND;TZID=America/New_York:20231128T130000
DTSTAMP:20260419T190144
CREATED:20230815T174311Z
LAST-MODIFIED:20230819T200108Z
UID:50855-1701172800-1701176400@caringforthebody.com
SUMMARY:Functional Medicine Health & Nutrition Coaching Program
DESCRIPTION:The Functional Medicine Health & Nutrition coaching group meets every second and fourth Tuesday of each month from 12 pm to 1:00 pm EST on Zoom. These interactive and engaging sessions are designed to provide you with personalized guidance and support on your health journey. \nAll of the mentorship group sessions will be recorded and archived within our private membership site. If you are unable to attend a live session\, you can access the recordings at your convenience and never miss out on valuable insights and discussions. \n**Access to the Functional Medicine Health & Nutrition Coaching Program is included in our patient care programs.   Learn more about our services.** \nLearn more about the Functional Medicine Health & Nutrition coaching program here.
URL:https://caringforthebody.com/event/functional-medicine-health-nutrition-coaching-program-4/
LOCATION:Video Conference
CATEGORIES:Group Health Coaching
ATTACH;FMTTYPE=image/png:https://caringforthebody.com/wp-content/uploads/2023/08/Functional-Medicine-health-nutrition-coaching-program-1.png
ORGANIZER;CN="Caring for the Body%2C PLLC":MAILTO:help@caringforthebody.org
END:VEVENT
BEGIN:VEVENT
DTSTART;TZID=America/New_York:20231114T120000
DTEND;TZID=America/New_York:20231114T130000
DTSTAMP:20260419T190144
CREATED:20230815T174153Z
LAST-MODIFIED:20230819T200153Z
UID:50853-1699963200-1699966800@caringforthebody.com
SUMMARY:Functional Medicine Health & Nutrition Coaching Program
DESCRIPTION:The Functional Medicine Health & Nutrition coaching group meets every second and fourth Tuesday of each month from 12 pm to 1:00 pm EST on Zoom. These interactive and engaging sessions are designed to provide you with personalized guidance and support on your health journey. \nAll of the mentorship group sessions will be recorded and archived within our private membership site. If you are unable to attend a live session\, you can access the recordings at your convenience and never miss out on valuable insights and discussions. \n**Access to the Functional Medicine Health & Nutrition Coaching Program is included in our patient care programs.   Learn more about our services.** \nLearn more about the Functional Medicine Health & Nutrition coaching program here.
URL:https://caringforthebody.com/event/functional-medicine-health-nutrition-coaching-program-3/
LOCATION:Video Conference
CATEGORIES:Group Health Coaching
ATTACH;FMTTYPE=image/png:https://caringforthebody.com/wp-content/uploads/2023/08/Functional-Medicine-health-nutrition-coaching-program-1.png
ORGANIZER;CN="Caring for the Body%2C PLLC":MAILTO:help@caringforthebody.org
END:VEVENT
BEGIN:VEVENT
DTSTART;TZID=America/New_York:20231024T120000
DTEND;TZID=America/New_York:20231024T130000
DTSTAMP:20260419T190144
CREATED:20230815T173752Z
LAST-MODIFIED:20230819T195948Z
UID:50851-1698148800-1698152400@caringforthebody.com
SUMMARY:Functional Medicine Health & Nutrition Coaching Program
DESCRIPTION:The Functional Medicine Health & Nutrition coaching group meets every second and fourth Tuesday of each month from 12 pm to 1:00 pm EST on Zoom. These interactive and engaging sessions are designed to provide you with personalized guidance and support on your health journey. \nAll of the mentorship group sessions will be recorded and archived within our private membership site. If you are unable to attend a live session\, you can access the recordings at your convenience and never miss out on valuable insights and discussions. \n**Access to the Functional Medicine Health & Nutrition Coaching Program is included in our patient care programs.   Learn more about our services.** \nLearn more about the Functional Medicine Health & Nutrition coaching program here.
URL:https://caringforthebody.com/event/functional-medicine-health-nutrition-coaching-program-2/
LOCATION:Video Conference
CATEGORIES:Group Health Coaching
ATTACH;FMTTYPE=image/png:https://caringforthebody.com/wp-content/uploads/2023/08/Functional-Medicine-health-nutrition-coaching-program-1.png
ORGANIZER;CN="Caring for the Body%2C PLLC":MAILTO:help@caringforthebody.org
END:VEVENT
BEGIN:VEVENT
DTSTART;TZID=America/New_York:20231010T120000
DTEND;TZID=America/New_York:20231010T130000
DTSTAMP:20260419T190144
CREATED:20230815T173519Z
LAST-MODIFIED:20230819T200235Z
UID:50848-1696939200-1696942800@caringforthebody.com
SUMMARY:Functional Medicine Health & Nutrition Coaching Program
DESCRIPTION:The Functional Medicine Health & Nutrition coaching group meets every second and fourth Tuesday of each month from 12 pm to 1:00 pm EST on Zoom. These interactive and engaging sessions are designed to provide you with personalized guidance and support on your health journey. \nAll of the mentorship group sessions will be recorded and archived within our private membership site. If you are unable to attend a live session\, you can access the recordings at your convenience and never miss out on valuable insights and discussions. \n**Access to the Functional Medicine Health & Nutrition Coaching Program is included in our patient care programs.   Learn more about our services.** \nLearn more about the Functional Medicine Health & Nutrition coaching program here.
URL:https://caringforthebody.com/event/functional-medicine-health-nutrition-coaching-program/
LOCATION:Video Conference
CATEGORIES:Group Health Coaching
ATTACH;FMTTYPE=image/png:https://caringforthebody.com/wp-content/uploads/2023/08/Functional-Medicine-health-nutrition-coaching-program-1.png
ORGANIZER;CN="Caring for the Body%2C PLLC":MAILTO:help@caringforthebody.org
END:VEVENT
BEGIN:VEVENT
DTSTART;TZID=America/New_York:20220808T120000
DTEND;TZID=America/New_York:20220808T130000
DTSTAMP:20260419T190144
CREATED:20220706T201334Z
LAST-MODIFIED:20220706T202235Z
UID:49244-1659960000-1659963600@caringforthebody.com
SUMMARY:FirstLine Therapy® Group Health Coaching Program
DESCRIPTION:What? \nA 12-week group Lifestyle Medicine Program that supports small-step\, long-term lifestyle change for improved health and wellbeing.\n  \nHere are the powerful benefits of FirstLine Therapy® Group Health Coaching: \n\nReverse Your Risk Factors for Chronic Disease\nMinimize Your Need for Prescription Drugs\nLose Unwanted Body Fat\nGain Lean Muscle\nFeel Better!\n\n  \nOur FirstLine Therapy® Group Health Coaching includes: \nBiometrics (Key physical measurements) \n\nHeight & Weight\nBody Mass Index (BMI)\nWaist to Hip Ratio\nBlood Pressure\nGrip Strength\nOxygen Saturation (SpO2)\nInBody – body composition analysis to track your progress over time. This device shows\nyou key components of your health:\n• Skeletal Muscle Mass\n• Percent Body Fat\n• BodyFat Mass\n• Basal Metabolic Rate\n\nOrdering & Interpretation of Diagnostic Tests* (Heart Health\, Liver Health\, Kidney Health\, Bone Health & Health Risks) \n\nComplete Blood Count (CBC Test)\nComprehensive Metabolic Panel (CMP)\nCholesterol Panel\nUrinalysis\nHemoglobin A1c Test\nInflammation Marker (hsCRP Test)\nVitamin D\n\n*Please note that the cost of the lab tests is not included in the program fee. The labs can be submitted to your health insurance company for possible payment. We have discounted self-pay rates for patients without health insurance or for those with a high deductible plan who desire to pay a discounted rate. \nComprehensive Group Health Coaching Program \n\n12-Week Group Health Coaching Program led by a Certified Health Coach and Medically Supervised by Dr. Libert – Six group coaching sessions via secure video conferencing to customize your lifestyle plan (e.g.\, nutrition\, sleep\, movement and stress management) so that you can achieve your health goals.\nMedical Review of Your Laboratories with Written Report and Medical Food/Nutritional Supplement Recommendations from Dr. Libert\nTherapeutic Dietary Program prescribed by Dr. Libert to address your underlying medical conditions and risk factors – comprehensive guidebook\, recipes and shopping lists shared electronically on your secure patient portal.\nE-mail Access to your Health Coach. Your program fee includes up to 75 minutes of additional\, optional coaching phone calls or e-mail communications with your health coach\, in between sessions\, for the duration of your program for the purpose of plan clarification and troubleshooting if needed.\n\n  \nWhen?  \nLast Day to Sign Up – Thursday\, August 4\, 2022 \nInitial Session:        Monday\, August 8\, 2022 – 12pm-1:00pm EST \nWeek 2:                   Monday August 22\, 2022 – 12pm-1:00pm EST \nWeek 4:                   Tuesday\, Sept. 6\, 2022* (Sept. 5 is Labor Day) – 12pm-1:30pm EST \nWeek 6:                   Monday\, Sept. 19\, 2022 – 12pm-1:00pm EST \nWeek 9                    Monday\, Oct. 10\, 2022 – 12pm-1:00pm EST \nWeek 12:                 Monday\, Oct. 31\, 2022 – 12pm-1:00pm EST \n  \nProgram Investment:  \nFirstLine Therapy® Group Coaching Program – $2\,659 (payment plan available). \n  \nClick here to learn more about the program curriculum and how you can benefit from the FirstLine Therapy® Group Coaching Program. \n  \nReady to get started? Email our patient care coordinator\, Jan Vidmar\, at help@caringforthebody.org or call the office at (828) 490-1545.
URL:https://caringforthebody.com/event/firstline-therapy-group-health-coaching-program/
LOCATION:Video Conference
CATEGORIES:Group Health Coaching
END:VEVENT
END:VCALENDAR